BEGIN:VCALENDAR
METHOD:PUBLISH
VERSION:2.0
CALSCALE:GREGORIAN
PRODID:-//NONSGML Sandhills Development\, LLC//NONSGML Sugar Calendar Fe
 eds v3.7.3//EN
X-WR-CALNAME:Webinar: Dostępność w branży cyfrowej w świetle EAA. O
 bowiązki prawne\, wymogi technologiczne i komunikacja w praktyce
X-WR-CALDESC:Cyfrowa Polska
X-WR-TIMEZONE:Europe/Warsaw
BEGIN:VTIMEZONE
TZID:Europe/Warsaw
BEGIN:STANDARD
TZOFFSETFROM:+0200
TZOFFSETTO:+0100
DTSTART:20251026T010000
TZNAME:CET
END:STANDARD
BEGIN:DAYLIGHT
TZOFFSETFROM:+0100
TZOFFSETTO:+0200
DTSTART:20260329T010000
TZNAME:CEST
END:DAYLIGHT
END:VTIMEZONE
BEGIN:VTIMEZONE
TZID:Europe/Warsaw
BEGIN:STANDARD
TZOFFSETFROM:+0200
TZOFFSETTO:+0100
DTSTART:20251026T010000
TZNAME:CET
END:STANDARD
BEGIN:DAYLIGHT
TZOFFSETFROM:+0100
TZOFFSETTO:+0200
DTSTART:20260329T010000
TZNAME:CEST
END:DAYLIGHT
END:VTIMEZONE
BEGIN:VEVENT
SUMMARY:Webinar: Dostępność w branży cyfrowej w świetle EAA. Obowi
 zki prawne\, wymogi technologiczne i komunikacja w praktyce
DESCRIPTION:🤝 Partner: Widzialni.eu&nbsp\;📅 Data: środa\, 22 kwie
 tnia 2026 r.&nbsp\;⏰ Godzina: 10:00 - 11:30💻 Forma: on-line&nbsp\;
  Udział: bezpłatny po wcześniejszej rejestracji&nbsp\;\n\n\n\nZarej
 estruj się\, a dowiedz się\, jakie obowiązki wynikające z EAA mogą 
 dotyczyć firm z rynku IT\, elektroniki użytkowej oraz jak przygotować
  produkty\, komunikację i procesy do nowych wymagań. Podczas webinaru 
 omówimy najważniejsze aspekty prawne\, technologiczne i komunikacyjne\
 , które trzeba uwzględnić dostosowując polityki do przepisów. Europ
 ejski Akt o Dostępności wprowadza nowe obowiązki dla firm oferującyc
 h produkty i usługi cyfrowe. Zmiany obejmują nie tylko kwestie prawne\
 , ale również wymagania technologiczne oraz sposób komunikacji z uży
 tkownikami.&nbsp\;Zarezerwuj miejsce na spotkanie\, które będzie okazj
 ą do zdobycia praktycznej wiedzy i uporządkowania najważniejszych zag
 adnień związanych z dostępnością z różnych perspektyw.\n\n\n\n
  Do kogo jest skierowany webinar:\n\n\n\nWebinar kierujemy do osób\, k
 tóre w firmach z rynku IT oraz elektroniki użytkowej odpowiadają za z
 godność produktów z przepisami\, rozwój oferty produktowej\, komunik
 ację z klientem oraz przygotowanie organizacji do nowych wymogów regul
 acyjnych\n\n\n\n📣To spotkanie będzie szczególnie wartościowe dla:\
 n\n\n\n✅ osób odpowiedzialnych za compliance i regulatory affairs✅ 
 działów prawnych✅ product managerów i osób zarządzających katego
 riami produktowymi✅ zespołów marketingu\, komunikacji i contentu✅ 
 osób odpowiedzialnych za customer experience\, e-commerce i informację
  produktową✅ ekspertów zajmujących się dostępnością i wdrożeni
 em wymogów technologicznych\n\n\n\nW webinarze skupimy się przede wszy
 stkim na rynku urządzeń IT i elektroniki użytkowej\, przykładowo tel
 ewizory\, smartfony\, komputery czy konsole do gier\, a więc na obszara
 ch szczególnie istotnych dla producentów\, importerów\, dystrybutoró
 w i sprzedawców tego typu sprzętu.\n\n\n\n🎯 Co zyskasz\, biorąc ud
 ział w webinarze?\n\n\n\n✅ uporządkujesz najważniejsze obowiązki w
 ynikające z EAA dla branży cyfrowej✅ dowiesz się\, jakie wymagania 
 technologiczne mogą dotyczyć urządzeń\, usług i serwisów✅ lepiej
  zrozumiesz\, jak przygotować komunikację i treści zgodnie z zasadami
  dostępności✅ poznasz praktyczne spojrzenie ekspertów łączących 
 perspektywę prawa\, technologii i prostego języka✅ będziesz mógł 
 zadać pytania podczas sesji Q&amp\;A\n\n\n\n📣Dołącz do bezpłatneg
 o webinaru\, rejestrując się tutaj: https://streamyard.com/watch/5X5n6
 uxdUbrG\n\n\n\n🗂️ Agenda\n\n\n\n📌 1. Europejski Akt o Dostępno
 ci i Polska Ustawa o DostępnościCele regulacji\, zakres ich stosowani
 a\, kluczowe definicje oraz najważniejsze obowiązki dla branży cyfrow
 ej\, w tym dla urządzeń\, usług i serwisów.\n\n\n\n📌 2. Wymogi te
 chnologiczne w praktyceOmówienie najważniejszych standardów i rozwią
 zań technologicznych związanych z dostępnością\, w tym ARIA\, ETSI 
 EN 301 549\, HbbTV oraz systemów TV OS.\n\n\n\n📌 3. Prosty język w 
 praktyceJak przygotowywać regulaminy\, opisy treści i komunikację z k
 onsumentem w sposób zrozumiały\, zgodny z wymogami dostępności i uż
 yteczny dla odbiorcy.\n\n\n\n📌 4. Sesja pytań i odpowiedziCzas na py
 tania uczestników i omówienie praktycznych wątpliwości związanych z
  wdrażaniem wymogów EAA.\n\n\n\n📣 Prelegenci:🎤 dr Karolina Mende
 cka\, Dyrektorka Business Accessibility Forum\, radczyni prawnaDyrektork
 a Business Accessibility Forum\, radczyni prawna w Fundacji Widzialni\, 
 doktorka i adiunktka na Wydziale Prawa i Administracji Uniwersytetu Łó
 dzkiego. Zawodowo i naukowo zajmuje się dostępnością w świetle praw
 a ochrony konsumenta i międzynarodowej ochrony praw człowieka\, ze szc
 zególnym uwzględnieniem praw osób ze szczególnymi potrzebami.\n\n\n\
 n🎤 Przemysław Marcinkowski\, Przewodniczący Rady Fundacji\, CTO\, e
 kspert ds. dostępnościOd ponad 20 lat działa jako programista i ekspe
 rt ds. dostępności. Tworzy strategie wdrażania dostępności oraz roz
 wija dostępne rozwiązania technologiczne dla biznesowych aplikacji web
 owych i mobilnych. Autor książek i programów szkoleniowych związanyc
 h z dostępnością\, trener i wykładowca. W ramach Business Accessibil
 ity Forum wspiera dialog o dostępności w polskim biznesie i administra
 cji publicznej.\n\n\n\n🎤 Aneta Dąbkowska\, Plain Language DirectorMe
 nedżerka z wieloletnim doświadczeniem w zarządzaniu projektami w bran
 ży finansowej. Specjalizuje się w customer experience i optymalizacji 
 procesów biznesowych. Tworzy i wdraża kulturę prostego języka w orga
 nizacjach. Przez ostatnie lata odpowiadała za rozwój strategii prosteg
 o języka w Grupie PZU. W Fundacji Widzialni prowadzi audyty zrozumiało
 ści\, wspiera klientów w upraszczaniu komunikacji i wdrażaniu dostęp
 ności.\n\n\n\n⚠️ Zarejestruj się bezpłatnie.&nbsp\;Liczba miejsc 
 ograniczona
URL;VALUE=URI:https://cyfrowapolska.org/events/webinar-dostepnosc-w-bran
 zy-cyfrowej-w-swietle-eaa-obowiazki-prawne-wymogi-technologiczne-i-komun
 ikacja-w-praktyce-2/
UID:urn:uuid:619b652f-5a1b-4fc9-ab35-094a7b63dea5
STATUS:CONFIRMED
ORGANIZER:
DTSTAMP:20260421T095013Z
DTSTART;TZID=Europe/Warsaw:20260422T100000
DTEND;TZID=Europe/Warsaw:20260422T113000
END:VEVENT
END:VCALENDAR